BEGIN:VCALENDAR
VERSION:2.0
PRODID:-//Mercer Wines - ECPv6.15.14//NONSGML v1.0//EN
CALSCALE:GREGORIAN
METHOD:PUBLISH
X-ORIGINAL-URL:https://mercerwines.com.au
X-WR-CALDESC:Events for Mercer Wines
REFRESH-INTERVAL;VALUE=DURATION:PT1H
X-Robots-Tag:noindex
X-PUBLISHED-TTL:PT1H
BEGIN:VTIMEZONE
TZID:Australia/Sydney
BEGIN:STANDARD
TZOFFSETFROM:+1100
TZOFFSETTO:+1000
TZNAME:AEST
DTSTART:20240406T160000
END:STANDARD
BEGIN:DAYLIGHT
TZOFFSETFROM:+1000
TZOFFSETTO:+1100
TZNAME:AEDT
DTSTART:20241005T160000
END:DAYLIGHT
BEGIN:STANDARD
TZOFFSETFROM:+1100
TZOFFSETTO:+1000
TZNAME:AEST
DTSTART:20250405T160000
END:STANDARD
BEGIN:DAYLIGHT
TZOFFSETFROM:+1000
TZOFFSETTO:+1100
TZNAME:AEDT
DTSTART:20251004T160000
END:DAYLIGHT
BEGIN:STANDARD
TZOFFSETFROM:+1100
TZOFFSETTO:+1000
TZNAME:AEST
DTSTART:20260404T160000
END:STANDARD
BEGIN:DAYLIGHT
TZOFFSETFROM:+1000
TZOFFSETTO:+1100
TZNAME:AEDT
DTSTART:20261003T160000
END:DAYLIGHT
END:VTIMEZONE
BEGIN:VEVENT
DTSTART;TZID=Australia/Sydney:20250607T120000
DTEND;TZID=Australia/Sydney:20250607T160000
DTSTAMP:20260421T203714
CREATED:20250525T024204Z
LAST-MODIFIED:20250525T025611Z
UID:12103-1749297600-1749312000@mercerwines.com.au
SUMMARY:Mercer Anniversary Weekend - June 7th
DESCRIPTION:June 7th  & 8th it’s our 1st Anniversary on Hermitage Road at our Hunter Valley Cellar Door. \nCelebrate one incredible year with a relaxed weekend of wine\, food\, and live music with the Mercer Team. Be among the first to taste 5 exciting new Mercer releases\, enjoy woodfired mezze plates cooked onsite by Cam from Meltdown Café\, and soak up the Hunter Valley vibes with music from Patrick McMahon (12–3pm daily). \nTickets: \n\n$40 gets you a Top Shelf Tasting + delicious Mezze Plate (vegetarian or meat options)\n\nWalk-ins welcome\, but bookings are highly recommended.
URL:https://mercerwines.com.au/event/mercer-anniversary-weekend/
LOCATION:Mercer Wines Cellar Door\, 972 Hermitage Road\, Pokolbin\, NSW\, 2320\, Australia
CATEGORIES:CellarDoor
ATTACH;FMTTYPE=image/jpeg:https://mercerwines.com.au/wp-content/uploads/2025/05/NEL-3.jpg
ORGANIZER;CN="Mercer Wines":MAILTO:alison@mercerwines.com.au
END:VEVENT
BEGIN:VEVENT
DTSTART;TZID=Australia/Sydney:20250608T120000
DTEND;TZID=Australia/Sydney:20250608T160000
DTSTAMP:20260421T203714
CREATED:20250525T025533Z
LAST-MODIFIED:20250525T025533Z
UID:12107-1749384000-1749398400@mercerwines.com.au
SUMMARY:Mercer Anniversary  - June 8th
DESCRIPTION:June 7th  & 8th it’s our 1st Anniversary on Hermitage Road at our Hunter Valley Cellar Door. \nCelebrate one incredible year with a relaxed weekend of wine\, food\, and live music with the Mercer Team. Be among the first to taste 5 exciting new Mercer releases\, enjoy woodfired mezze plates cooked onsite by Cam from Meltdown Café\, and soak up the Hunter Valley vibes with music from Patrick McMahon (12–3pm daily). \nTickets: \n\n$40 gets you a Top Shelf Tasting + delicious Mezze Plate (vegetarian or meat options)\n\nWalk-ins welcome\, but bookings are highly recommended.
URL:https://mercerwines.com.au/event/mercer-anniversary-june-8th/
LOCATION:Mercer Wines Cellar Door\, 972 Hermitage Road\, Pokolbin\, NSW\, 2320\, Australia
CATEGORIES:CellarDoor
ATTACH;FMTTYPE=image/jpeg:https://mercerwines.com.au/wp-content/uploads/2025/05/NEL-3.jpg
ORGANIZER;CN="Mercer Wines":MAILTO:alison@mercerwines.com.au
END:VEVENT
END:VCALENDAR