BEGIN:VCALENDAR
VERSION:2.0
PRODID:-//Mercer Wines - ECPv6.15.14//NONSGML v1.0//EN
CALSCALE:GREGORIAN
METHOD:PUBLISH
X-WR-CALNAME:Mercer Wines
X-ORIGINAL-URL:https://mercerwines.com.au
X-WR-CALDESC:Events for Mercer Wines
REFRESH-INTERVAL;VALUE=DURATION:PT1H
X-Robots-Tag:noindex
X-PUBLISHED-TTL:PT1H
BEGIN:VTIMEZONE
TZID:Australia/Sydney
BEGIN:STANDARD
TZOFFSETFROM:+1100
TZOFFSETTO:+1000
TZNAME:AEST
DTSTART:20230401T160000
END:STANDARD
BEGIN:DAYLIGHT
TZOFFSETFROM:+1000
TZOFFSETTO:+1100
TZNAME:AEDT
DTSTART:20230930T160000
END:DAYLIGHT
BEGIN:STANDARD
TZOFFSETFROM:+1100
TZOFFSETTO:+1000
TZNAME:AEST
DTSTART:20240406T160000
END:STANDARD
BEGIN:DAYLIGHT
TZOFFSETFROM:+1000
TZOFFSETTO:+1100
TZNAME:AEDT
DTSTART:20241005T160000
END:DAYLIGHT
BEGIN:STANDARD
TZOFFSETFROM:+1100
TZOFFSETTO:+1000
TZNAME:AEST
DTSTART:20250405T160000
END:STANDARD
BEGIN:DAYLIGHT
TZOFFSETFROM:+1000
TZOFFSETTO:+1100
TZNAME:AEDT
DTSTART:20251004T160000
END:DAYLIGHT
END:VTIMEZONE
BEGIN:VEVENT
DTSTART;TZID=Australia/Sydney:20240901T120000
DTEND;TZID=Australia/Sydney:20240901T150000
DTSTAMP:20260422T113016
CREATED:20240724T140229Z
LAST-MODIFIED:20240825T044932Z
UID:8752-1725192000-1725202800@mercerwines.com.au
SUMMARY:Music @ Mercer Wines with Jo McManus
DESCRIPTION:Father’s Day @ Mercer Wines \nSundays Get Livelier with Joe McManus! \nJoin us for GOOD VIBES ONLY with Irish singer/songwriter Joe McManus\, continuing on Sunday September 1st from 12pm to 3pm. \nFor over 35 years\, Joe has been captivating audiences with his unique blend of relaxed Jazz\, soulful Blues\, and lively Irish music. His infectious energy is sure to leave you with a smile. So come on down to Mercer Wines\, relax with a glass of your favourite wine\, and let Joe’s music take you away. \nGrab some goods from the Mercer  Pantry \nGrab some goodies from our deli and create a picnic spread while you enjoy the tunes. Wine tastings to complete the perfect winter afternoon. \nWe recommend booking in for seated tastings but if you’re just here for the music and good times\, feel free to wander in and find yourself a spot on the lawn to soak in the vibes. Book your wine tasting table HERE
URL:https://mercerwines.com.au/event/sundaylivemusic1st/
LOCATION:Mercer Wines\, 972 Hermitage Road\, POKOLBIN\, NSW\, 2320\, Australia
CATEGORIES:CellarDoor
ATTACH;FMTTYPE=image/jpeg:https://mercerwines.com.au/wp-content/uploads/2024/06/5.jpg
ORGANIZER;CN="Mercer Wines":MAILTO:alison@mercerwines.com.au
END:VEVENT
BEGIN:VEVENT
DTSTART;TZID=Australia/Sydney:20240905T180000
DTEND;TZID=Australia/Sydney:20240905T220000
DTSTAMP:20260422T113016
CREATED:20240319T022127Z
LAST-MODIFIED:20240710T090315Z
UID:6729-1725559200-1725573600@mercerwines.com.au
SUMMARY:Mercer X NEL. restaurant
DESCRIPTION:Enjoy a night of fine food by NEL and fine wine by Mercer Wines. \n\nDine at NEL and feel mystified\, enthralled\, nostalgic\, exhilarated\, perplexed. Each dish tells a story that reaches beyond the palette.\n\n7 courses. 9 Mercer Wines – One night only –  Book here \nMercer Wines is a young brand started by Aaron and Alison Mercer\, local to the Hunter Valley. Mercer Wines is about sharing great\, sustainable NSW wines. Forget traditional varieties – Think new\, vegan friendly\, alternative varieties from all over NSW. Aaron and the Mercer team are also known for their award winning trophy streak and currently Aaron is a finalist for the Wine Maker Of the Year for the Hunter Valley Legend Awards. \n\n\n\nLOCATION – NEL. Restaurant\, SYDNEY
URL:https://mercerwines.com.au/event/neldinner/
LOCATION:Nel. Restaurant\, 75 Wentworth Avenue\, Sydney\, NSW\, 2000\, Australia
CATEGORIES:Wine Dinners
ATTACH;FMTTYPE=image/jpeg:https://mercerwines.com.au/wp-content/uploads/2024/03/IMG_4327.jpg
END:VEVENT
BEGIN:VEVENT
DTSTART;TZID=Australia/Sydney:20240921T160000
DTEND;TZID=Australia/Sydney:20240921T180000
DTSTAMP:20260422T113016
CREATED:20240826T083041Z
LAST-MODIFIED:20240826T083142Z
UID:9071-1726934400-1726941600@mercerwines.com.au
SUMMARY:Blue Mountains Cellar Door Fest
DESCRIPTION:Join us for an unforgettable wine event at Bar NSW at the Lookout\, the gateway to the stunning Blue Mountains. Secure your tickets now and embark on a culinary and vinous adventure at the inaugural Cellar Door Fest. \nExplore the rich flavours and heritage of Regional NSW as you indulge in a curated selection of wines\, beers\, spirits\, and gourmet treats. With over 20 handpicked wineries\, distilleries\, breweries and artisanal food producers under one roof\, this event is a must for wine lovers\, foodies\, and anyone seeking a memorable day out. \nTaste exceptional wines\, savour delectable local fare\, and meet the passionate makers behind the products. From robust reds and crisp whites to innovative spirits\, discover new favourites in a setting that celebrates the best of New South Wales. \nHosted by Shun Eto\, Creative Curator of Wine + Winemaker and Louella Mathews one of Australia’s most famous female group sommeliers. \nDon’t miss out—grab your tickets today and join us for an afternoon of tasting\, learning\, and celebration at Bar NSW’s Cellar Door Fest. \nBUY TICKETS \n 
URL:https://mercerwines.com.au/event/blue-mountains-cellar-door-fest/
LOCATION:The Lookout\, Echo Point\, 33 Echo Point Rd\, Katoomba\, NSW\, 2780\, Australia
CATEGORIES:Festivals
ATTACH;FMTTYPE=image/png:https://mercerwines.com.au/wp-content/uploads/2024/08/Screen-Shot-2024-08-26-at-6.21.00-pm.png
END:VEVENT
END:VCALENDAR