BEGIN:VCALENDAR
VERSION:2.0
PRODID:-//Mercer Wines - ECPv6.15.14//NONSGML v1.0//EN
CALSCALE:GREGORIAN
METHOD:PUBLISH
X-ORIGINAL-URL:https://mercerwines.com.au
X-WR-CALDESC:Events for Mercer Wines
REFRESH-INTERVAL;VALUE=DURATION:PT1H
X-Robots-Tag:noindex
X-PUBLISHED-TTL:PT1H
BEGIN:VTIMEZONE
TZID:Australia/Sydney
BEGIN:STANDARD
TZOFFSETFROM:+1100
TZOFFSETTO:+1000
TZNAME:AEST
DTSTART:20220402T160000
END:STANDARD
BEGIN:DAYLIGHT
TZOFFSETFROM:+1000
TZOFFSETTO:+1100
TZNAME:AEDT
DTSTART:20221001T160000
END:DAYLIGHT
BEGIN:STANDARD
TZOFFSETFROM:+1100
TZOFFSETTO:+1000
TZNAME:AEST
DTSTART:20230401T160000
END:STANDARD
BEGIN:DAYLIGHT
TZOFFSETFROM:+1000
TZOFFSETTO:+1100
TZNAME:AEDT
DTSTART:20230930T160000
END:DAYLIGHT
BEGIN:STANDARD
TZOFFSETFROM:+1100
TZOFFSETTO:+1000
TZNAME:AEST
DTSTART:20240406T160000
END:STANDARD
BEGIN:DAYLIGHT
TZOFFSETFROM:+1000
TZOFFSETTO:+1100
TZNAME:AEDT
DTSTART:20241005T160000
END:DAYLIGHT
END:VTIMEZONE
BEGIN:VEVENT
DTSTART;TZID=Australia/Sydney:20230917T100000
DTEND;TZID=Australia/Sydney:20230917T160000
DTSTAMP:20260423T084240
CREATED:20230620T044158Z
LAST-MODIFIED:20240412T080223Z
UID:3757-1694944800-1694966400@mercerwines.com.au
SUMMARY:St Ives Food and Wine Festival
DESCRIPTION:Join us at the St Ives Food and Wine Festival on Saturday 17th September from 10am – 4pm.  Make a day of it on the beautiful St Ives Village Green creating fun memories with your family and friends. St Ives Food and Wine Festival is a Rotary Club of St Ives event to bring together the community on the north shore. And we can’t wait to share Mercer Wines with you there.https://www.high-endrolex.com/25
URL:https://mercerwines.com.au/event/st-ives-food-and-wine-festival/
LOCATION:St Ives Village Green\, Memorial Drive\, St Ives\, NSW\, 2075\, Australia
CATEGORIES:Festivals
ATTACH;FMTTYPE=image/png:https://mercerwines.com.au/wp-content/uploads/2023/06/Screen-Shot-2023-06-20-at-2.35.02-pm.png
END:VEVENT
BEGIN:VEVENT
DTSTART;TZID=Australia/Sydney:20230920T123000
DTEND;TZID=Australia/Sydney:20230920T153000
DTSTAMP:20260423T084240
CREATED:20230829T021331Z
LAST-MODIFIED:20230918T143907Z
UID:4356-1695213000-1695223800@mercerwines.com.au
SUMMARY:Picpoulers NSW Lunch
DESCRIPTION:Australia’s Wine Industry Welcomes the Launch of Picpoul in NSW \nThe Australian wine scene is abuzz with excitement as five innovative wine producers from New South Wales combine to launch the highly anticipated arrival of Picpoul to the local wine scene Hosted by the winemakers at Horner Wines\, Borrowed Cuttings\, Mercer Wines\, Windowrie Organic Wines and Saddlers Creek. Guests and wine-lovers will be able to experience a range of Picpoul styles from these producers at the renowned Longshore Restaurant where executive chef Jarred Walsh will pair the wines with local seafood with an Asian twist. \nPicpoul\, a grape variety traditionally grown in the Languedoc region of France\, has found its new home among the picturesque vineyards of NSW\, Australia. \nSteve Faletti\, Owner of Borrowed Cuttings\, who originally imported the cuttings into NSW 10 years ago said\, “We are thrilled to announce the launch of Picpoul in NSW. This varietal brings a refreshing twist to the Australian wine scene\, offering a vibrant and distinct taste profile that is sure to captivate wine lovers with its incredible match to fresh seafoods.” \nEvent details: \nDate & Time – Wednesday 20th September @ 12.30pm \nVenue – Longshore Restaurant\, 5 Kensington Street\, Chippendale \nBookings – https://PicpoulersNSWLunch.eventbrite.com.au
URL:https://mercerwines.com.au/event/picpoulers-nsw-lunch/
LOCATION:Longshore Restaurant\, 5 Kensington Street\, Chippendale\, NSW\, Australia
CATEGORIES:Wine Dinners
ATTACH;FMTTYPE=image/png:https://mercerwines.com.au/wp-content/uploads/2023/08/Screen-Shot-2023-08-29-at-11.45.52-am.png
ORGANIZER;CN="Mercer Wines":MAILTO:alison@mercerwines.com.au
END:VEVENT
END:VCALENDAR