BEGIN:VCALENDAR
VERSION:2.0
PRODID:-//Mercer Wines - ECPv6.15.14//NONSGML v1.0//EN
CALSCALE:GREGORIAN
METHOD:PUBLISH
X-WR-CALNAME:Mercer Wines
X-ORIGINAL-URL:https://mercerwines.com.au
X-WR-CALDESC:Events for Mercer Wines
REFRESH-INTERVAL;VALUE=DURATION:PT1H
X-Robots-Tag:noindex
X-PUBLISHED-TTL:PT1H
BEGIN:VTIMEZONE
TZID:Australia/Sydney
BEGIN:STANDARD
TZOFFSETFROM:+1100
TZOFFSETTO:+1000
TZNAME:AEST
DTSTART:20250405T160000
END:STANDARD
BEGIN:DAYLIGHT
TZOFFSETFROM:+1000
TZOFFSETTO:+1100
TZNAME:AEDT
DTSTART:20251004T160000
END:DAYLIGHT
BEGIN:STANDARD
TZOFFSETFROM:+1100
TZOFFSETTO:+1000
TZNAME:AEST
DTSTART:20260404T160000
END:STANDARD
BEGIN:DAYLIGHT
TZOFFSETFROM:+1000
TZOFFSETTO:+1100
TZNAME:AEDT
DTSTART:20261003T160000
END:DAYLIGHT
BEGIN:STANDARD
TZOFFSETFROM:+1100
TZOFFSETTO:+1000
TZNAME:AEST
DTSTART:20270403T160000
END:STANDARD
BEGIN:DAYLIGHT
TZOFFSETFROM:+1000
TZOFFSETTO:+1100
TZNAME:AEDT
DTSTART:20271002T160000
END:DAYLIGHT
END:VTIMEZONE
BEGIN:VEVENT
DTSTART;TZID=Australia/Sydney:20260409T180000
DTEND;TZID=Australia/Sydney:20260409T220000
DTSTAMP:20260421T153254
CREATED:20260208T025231Z
LAST-MODIFIED:20260208T025231Z
UID:12593-1775757600-1775772000@mercerwines.com.au
SUMMARY:Mercer After Dark – Wine & Jazz @ Signal Box for Newcastle Good Food Month.
DESCRIPTION:Mercer After Dark – Wine & Jazz @ Signal Box as part of the featured event for Newcastle Good Food Month \nThis is more than a dinner\, it’s an experience for wine lovers\, music fans\, and foodies alike. \nStep into an unforgettable evening at Mercer After Dark: Wine & Jazz @ Signal Box. Begin with a cocktail or glass of fizz on arrival\, accompanied by canapés in the rooftop or courtyard\, then move into a three-course modern Australian dinner paired with six exceptional Mercer Wines. Throughout the evening\, live jazz sets the mood\, bringing the food\, wine\, and conversation to life. \nLimited seats are available for this intimate night of music\, flavour\, and modern Hunter Valley wine. \nInclusions:\n• Cocktail or fizz on arrival\n• Canapés in the courtyard\n• Three-course dinner with six Mercer Wine pairings \n🎟️ Limited seats – our last events sold out. Don’t miss your spot at the table. \n📍 Signal Box\, Newcastle \n📅 Thursday April 9th 2026 \n💰 $155 \n🕖 6 – 10pm \nBrought to you by Mercer Wines\, Signal Box and Newcastle Good Food Month – because dinner should never be boring.
URL:https://mercerwines.com.au/event/mercer-after-dark/
LOCATION:Signal Box\, 155 Wharf Road\, Newcastle\, NSW\, 2300\, Australia
ATTACH;FMTTYPE=image/jpeg:https://mercerwines.com.au/wp-content/uploads/2026/02/Mercer-After-Dark.jpg
ORGANIZER;CN="Mercer Wines":MAILTO:alison@mercerwines.com.au
END:VEVENT
BEGIN:VEVENT
DTSTART;TZID=Australia/Sydney:20260411T180000
DTEND;TZID=Australia/Sydney:20260411T210000
DTSTAMP:20260421T153254
CREATED:20260208T030420Z
LAST-MODIFIED:20260208T030420Z
UID:12597-1775930400-1775941200@mercerwines.com.au
SUMMARY:Islington Barracks Comedy Uncorked
DESCRIPTION:Islington Barracks – Comedy Uncorked as part of the featured event for Newcastle Food Month \nLaughter\, fine wine\, and a feast\, what more could you want? For Newcastle Food Month\, we’re serving up an evening that’s equal parts indulgence and entertainment. Join us at Islington Barracks Hotel and the Newcastle Comedy Club for a three-course meal perfectly paired with six wines\, before settling in for a comedy show that’ll have you in stitches. An evening of food\, drink\, and hilarity awaits. \n🎟️ Limited seats \n📍 Islington Barracks\, Newcastle \n📅 Saturday April 11th 2026 \n💰 $130 \n🕖 6 – 9pm \nBrought to you by Newcastle Comedy Club\, Islington Barracks\, Mercer Wines and Newcastle Good Food Month – because it’s time we had a laugh!
URL:https://mercerwines.com.au/event/comedy-uncorked/
LOCATION:Islington Barracks\, 139 Maitland Road\, Islington\, NSW\, 2296\, Australia
ATTACH;FMTTYPE=image/png:https://mercerwines.com.au/wp-content/uploads/2026/02/Wines-Dines-and-punchlines.png
END:VEVENT
BEGIN:VEVENT
DTSTART;TZID=Australia/Sydney:20260606T110000
DTEND;TZID=Australia/Sydney:20260606T150000
DTSTAMP:20260421T153254
CREATED:20260208T023511Z
LAST-MODIFIED:20260208T060945Z
UID:12583-1780743600-1780758000@mercerwines.com.au
SUMMARY:Mercer Anniversary  - June Long Weekend. Saturday 6th
DESCRIPTION:2026 June Long Weekend\, it’s our Anniversary on Hermitage Road at our Hunter Valley Cellar Door. \nCelebrate two incredible years with a relaxed weekend of wine\, food\, and live music with the Mercer Team. Be among the first to taste exciting new Mercer releases\, enjoy local bites and soak up the Hunter Valley vibes with music from 12–3pm daily. \nTickets: $40 \nWalk-ins welcome\, but bookings are highly recommended. BOOK HERE
URL:https://mercerwines.com.au/event/mercer-anniversary-june-long-weekend/
LOCATION:Mercer Wines Cellar Door\, 972 Hermitage Road\, Pokolbin\, NSW\, 2320\, Australia
CATEGORIES:CellarDoor
ATTACH;FMTTYPE=image/jpeg:https://mercerwines.com.au/wp-content/uploads/2025/05/NEL-3.jpg
ORGANIZER;CN="Mercer Wines":MAILTO:alison@mercerwines.com.au
END:VEVENT
BEGIN:VEVENT
DTSTART;TZID=Australia/Sydney:20260607T110000
DTEND;TZID=Australia/Sydney:20260607T150000
DTSTAMP:20260421T153254
CREATED:20260208T023854Z
LAST-MODIFIED:20260208T040155Z
UID:12585-1780830000-1780844400@mercerwines.com.au
SUMMARY:Mercer Anniversary  - June Long Weekend - Sunday 7th
DESCRIPTION:2026 June Long Weekend\, it’s our Anniversary on Hermitage Road at our Hunter Valley Cellar Door. \nCelebrate two incredible years with a relaxed weekend of wine\, food\, and live music with the Mercer Team. Be among the first to taste exciting new Mercer releases\, enjoy local bites and soak up the Hunter Valley vibes with music from 12–3pm daily. \nTickets: $40 \nWalk-ins welcome\, but bookings are highly recommended. BOOK HERE
URL:https://mercerwines.com.au/event/mercer-anniversary-june-long-weekend-sunday/
LOCATION:Mercer Wines Cellar Door\, 972 Hermitage Road\, Pokolbin\, NSW\, 2320\, Australia
CATEGORIES:CellarDoor
ATTACH;FMTTYPE=image/jpeg:https://mercerwines.com.au/wp-content/uploads/2025/05/NEL.jpg
ORGANIZER;CN="Mercer Wines":MAILTO:alison@mercerwines.com.au
END:VEVENT
BEGIN:VEVENT
DTSTART;TZID=Australia/Sydney:20261017T110000
DTEND;TZID=Australia/Sydney:20261017T160000
DTSTAMP:20260421T153254
CREATED:20260208T024334Z
LAST-MODIFIED:20260208T024334Z
UID:12591-1792234800-1792252800@mercerwines.com.au
SUMMARY:Mercer Spring Fiesta - Save the Date!
DESCRIPTION:Join Alison\, Aaron and the Mercer team for a Mediterranean Fiesta as part of our roving Spring Lunch. A tapas feast\, live music and a walk through our favourite gourmet countries of the world. Bring your friends for a celebration of Spring weather\, great food and (ofcourse) the wine speaks for itself! \nImagine a sunny day in the Hunter Valley\, where freshly shucked oysters and sizzling tapas fills the air. Join us at Mercer Wines brand new cellar door for a unique experience that combines delicious food and exceptional wine. \n“We decided on a Mediterranean Fiesta because we love travelling and often explore varieties from Spain and Italy. It’s going to be such delicious celebration to replicate what we love about dining in those places – shared food\, cooking for the love of it\, lots of wine & sun.” – Alison. \nAll dietary needs catered for\, email alison@mercerwines.com.au for specific requests.
URL:https://mercerwines.com.au/event/mercer-spring-fiesta-2026/
LOCATION:Mercer Wines Cellar Door\, 972 Hermitage Road\, Pokolbin\, NSW\, 2320\, Australia
CATEGORIES:CellarDoor,Festivals,Wine Dinners
ATTACH;FMTTYPE=image/gif:https://mercerwines.com.au/wp-content/uploads/2026/01/6b154bc6-2f2a-46bb-b3e0-c9197edb9a46.gif
ORGANIZER;CN="Mercer Wines":MAILTO:alison@mercerwines.com.au
END:VEVENT
END:VCALENDAR