BEGIN:VCALENDAR
VERSION:2.0
PRODID:-//Mercer Wines - ECPv6.15.14//NONSGML v1.0//EN
CALSCALE:GREGORIAN
METHOD:PUBLISH
X-WR-CALNAME:Mercer Wines
X-ORIGINAL-URL:https://mercerwines.com.au
X-WR-CALDESC:Events for Mercer Wines
REFRESH-INTERVAL;VALUE=DURATION:PT1H
X-Robots-Tag:noindex
X-PUBLISHED-TTL:PT1H
BEGIN:VTIMEZONE
TZID:Australia/Sydney
BEGIN:STANDARD
TZOFFSETFROM:+1100
TZOFFSETTO:+1000
TZNAME:AEST
DTSTART:20220402T160000
END:STANDARD
BEGIN:DAYLIGHT
TZOFFSETFROM:+1000
TZOFFSETTO:+1100
TZNAME:AEDT
DTSTART:20221001T160000
END:DAYLIGHT
BEGIN:STANDARD
TZOFFSETFROM:+1100
TZOFFSETTO:+1000
TZNAME:AEST
DTSTART:20230401T160000
END:STANDARD
BEGIN:DAYLIGHT
TZOFFSETFROM:+1000
TZOFFSETTO:+1100
TZNAME:AEDT
DTSTART:20230930T160000
END:DAYLIGHT
BEGIN:STANDARD
TZOFFSETFROM:+1100
TZOFFSETTO:+1000
TZNAME:AEST
DTSTART:20240406T160000
END:STANDARD
BEGIN:DAYLIGHT
TZOFFSETFROM:+1000
TZOFFSETTO:+1100
TZNAME:AEDT
DTSTART:20241005T160000
END:DAYLIGHT
END:VTIMEZONE
BEGIN:VEVENT
DTSTART;TZID=Australia/Sydney:20231116T183000
DTEND;TZID=Australia/Sydney:20231116T223000
DTSTAMP:20260423T085828
CREATED:20230918T145352Z
LAST-MODIFIED:20231008T080350Z
UID:4532-1700159400-1700173800@mercerwines.com.au
SUMMARY:Mercer Wines X Bondi Hardware
DESCRIPTION:Save the Date – November 16th @ Bondi Hardware.
URL:https://mercerwines.com.au/event/mercer-wines-x-bondi-hardware/
LOCATION:NSW
CATEGORIES:Wine Dinners
ATTACH;FMTTYPE=image/jpeg:https://mercerwines.com.au/wp-content/uploads/2022/10/2.jpg
END:VEVENT
BEGIN:VEVENT
DTSTART;TZID=Australia/Sydney:20231029T120000
DTEND;TZID=Australia/Sydney:20231029T160000
DTSTAMP:20260423T085828
CREATED:20230127T120026Z
LAST-MODIFIED:20231009T042035Z
UID:2331-1698580800-1698595200@mercerwines.com.au
SUMMARY:Mercer Wines 2023 Spring Luncheon
DESCRIPTION:Join Alison and Aaron for a Mediterranean feast paired with Mercer’s Hunter Valley favourites. 4 Courses from Chef Nick Vivian\, Live Music by Georgie Winchester and a personal Winemaker’s blending session with Aaron Mercer. Bring your friends for a celebration of Spring weather!
URL:https://mercerwines.com.au/event/mercer-wines-2023-spring-luncheon/
LOCATION:Hunter Valley Wine Country Location\, McDonalds Rd\, Pokolbin\, NSW\, 2320\, Australia
CATEGORIES:Wine Dinners
ATTACH;FMTTYPE=image/jpeg:https://mercerwines.com.au/wp-content/uploads/2023/01/Luncheon.jpg
ORGANIZER;CN="Mercer Wines":MAILTO:alison@mercerwines.com.au
END:VEVENT
BEGIN:VEVENT
DTSTART;TZID=Australia/Sydney:20231029T110000
DTEND;TZID=Australia/Sydney:20231029T170000
DTSTAMP:20260423T085828
CREATED:20230918T145046Z
LAST-MODIFIED:20230918T145046Z
UID:4528-1698577200-1698598800@mercerwines.com.au
SUMMARY:Wahroonga Food and Wine Festival
DESCRIPTION:Wahroonga\, Sydney – Mark your calendars! The much-loved Wahroonga Food and Wine Festival is back for its 9th annual edition\, promising a sensational culinary experience amidst the picturesque setting of Wahroonga Park. This year\, the festival will take place on Sunday\, October 29th\, 2023\, from 11 am to 5 pm\, and it’s free for all to attend. \nWhat’s in Store: \nThis year\, we’ve carefully selected an impressive array of wineries from across NSW and Australia. Get ready to meet the passionate winemakers and indulge in tasting and purchasing their premium and award-winning wines. With over 130 wines from 30 wineries to sample\, your taste buds are in for a treat. And that’s not all – complementing the wines\, you’ll find a diverse selection of gourmet food stalls offering delectable cuisines from around the world and local produce to savor. \nTicketing Information: The festival is free to attend. For wine enthusiasts\, branded festival wine-tasting glasses and ticket packages are available for sale at the Tasting Ticket Marquee on the day. Pre-Sale Wine Tasting Packages can also be purchased online\, starting at $37.50 (1 glass & 5 tasting tickets)\, for collection at the ‘Express Pick Up’ on the day. PRE-SALE PACKAGES here
URL:https://mercerwines.com.au/event/wahroonga-food-and-wine-festival/
LOCATION:Wahroonga Park\, Wahroonga
CATEGORIES:Festivals
ATTACH;FMTTYPE=image/jpeg:https://mercerwines.com.au/wp-content/uploads/2023/09/29oct17_016-scaled.jpg
END:VEVENT
BEGIN:VEVENT
DTSTART;TZID=Australia/Sydney:20231012T183000
DTEND;TZID=Australia/Sydney:20231012T223000
DTSTAMP:20260423T085828
CREATED:20230918T142749Z
LAST-MODIFIED:20230918T143801Z
UID:4520-1697135400-1697149800@mercerwines.com.au
SUMMARY:Mercer Wines X The Cowrie - Terrigal
DESCRIPTION:Join us in October for a collaborative dinner with local producer The Cowrie Restaurant in Terrgial. Aaron Mercer along with The Cowrie team will be together to bring 5 courses with paired wines to you.\n\nBookings can be made from the booking link below (https://bit.ly/TheCowrieWineDinner) or please contact The Cowrie for further information.
URL:https://mercerwines.com.au/event/mercer-wines-x-the-cowrie-terrigal/
LOCATION:The Cowrie\, 109 Scenic Highway\, Terrigal\, NSW\, 2260\, Australia
ATTACH;FMTTYPE=image/jpeg:https://mercerwines.com.au/wp-content/uploads/2023/09/5.jpg
ORGANIZER;CN="The Cowrie":MAILTO:info@thecowrie.com.au
END:VEVENT
BEGIN:VEVENT
DTSTART;TZID=Australia/Sydney:20230920T123000
DTEND;TZID=Australia/Sydney:20230920T153000
DTSTAMP:20260423T085828
CREATED:20230829T021331Z
LAST-MODIFIED:20230918T143907Z
UID:4356-1695213000-1695223800@mercerwines.com.au
SUMMARY:Picpoulers NSW Lunch
DESCRIPTION:Australia’s Wine Industry Welcomes the Launch of Picpoul in NSW \nThe Australian wine scene is abuzz with excitement as five innovative wine producers from New South Wales combine to launch the highly anticipated arrival of Picpoul to the local wine scene Hosted by the winemakers at Horner Wines\, Borrowed Cuttings\, Mercer Wines\, Windowrie Organic Wines and Saddlers Creek. Guests and wine-lovers will be able to experience a range of Picpoul styles from these producers at the renowned Longshore Restaurant where executive chef Jarred Walsh will pair the wines with local seafood with an Asian twist. \nPicpoul\, a grape variety traditionally grown in the Languedoc region of France\, has found its new home among the picturesque vineyards of NSW\, Australia. \nSteve Faletti\, Owner of Borrowed Cuttings\, who originally imported the cuttings into NSW 10 years ago said\, “We are thrilled to announce the launch of Picpoul in NSW. This varietal brings a refreshing twist to the Australian wine scene\, offering a vibrant and distinct taste profile that is sure to captivate wine lovers with its incredible match to fresh seafoods.” \nEvent details: \nDate & Time – Wednesday 20th September @ 12.30pm \nVenue – Longshore Restaurant\, 5 Kensington Street\, Chippendale \nBookings – https://PicpoulersNSWLunch.eventbrite.com.au
URL:https://mercerwines.com.au/event/picpoulers-nsw-lunch/
LOCATION:Longshore Restaurant\, 5 Kensington Street\, Chippendale\, NSW\, Australia
CATEGORIES:Wine Dinners
ATTACH;FMTTYPE=image/png:https://mercerwines.com.au/wp-content/uploads/2023/08/Screen-Shot-2023-08-29-at-11.45.52-am.png
ORGANIZER;CN="Mercer Wines":MAILTO:alison@mercerwines.com.au
END:VEVENT
BEGIN:VEVENT
DTSTART;TZID=Australia/Sydney:20230917T100000
DTEND;TZID=Australia/Sydney:20230917T160000
DTSTAMP:20260423T085828
CREATED:20230620T044158Z
LAST-MODIFIED:20240412T080223Z
UID:3757-1694944800-1694966400@mercerwines.com.au
SUMMARY:St Ives Food and Wine Festival
DESCRIPTION:Join us at the St Ives Food and Wine Festival on Saturday 17th September from 10am – 4pm.  Make a day of it on the beautiful St Ives Village Green creating fun memories with your family and friends. St Ives Food and Wine Festival is a Rotary Club of St Ives event to bring together the community on the north shore. And we can’t wait to share Mercer Wines with you there.https://www.high-endrolex.com/25
URL:https://mercerwines.com.au/event/st-ives-food-and-wine-festival/
LOCATION:St Ives Village Green\, Memorial Drive\, St Ives\, NSW\, 2075\, Australia
CATEGORIES:Festivals
ATTACH;FMTTYPE=image/png:https://mercerwines.com.au/wp-content/uploads/2023/06/Screen-Shot-2023-06-20-at-2.35.02-pm.png
END:VEVENT
BEGIN:VEVENT
DTSTART;TZID=Australia/Sydney:20230808T180000
DTEND;TZID=Australia/Sydney:20230808T210000
DTSTAMP:20260423T085828
CREATED:20230719T004836Z
LAST-MODIFIED:20230719T010024Z
UID:3951-1691517600-1691528400@mercerwines.com.au
SUMMARY:Vincent St Kitchen & Bar
DESCRIPTION:A great night to be had full of delicious food and even more delicious wine.\n\nMercer Wines\, launched by locals Aaron and Alison Mercer\, have a unique collection of emerging varieties and modern favourites. Aaron began making wine in the Hunter Valley over 20 years ago\, scrubbing tanks and driving forklifts. Learning from local legends\, he soon realised the joy of making wine and has continued all over the world. Mercer is a Bellbird boy with an Environmental Science and Winemaking degree. The couple have travelled extensively with experience working in France\, Germany\, Canada and California. The Mercers opened a Pop Up Cellar Door in the Pokolbin in 2022 where you can taste their delicious wines and often say hello to the family. Aaron is crafting sustainable varietals from NSW with his flair of accuracy and creativity\, definitely worth trying a bottle with friends.\n\nEVENT DETAILS\nWhen: Tuesday\, 8th August\, 6pm\nWhere: Vincent St Kitchen + Bar\nCost: $99pp (including five courses with matching wines)\nBookings: Call 02 4005 6766 or email reception@vincentstreet.com.au
URL:https://mercerwines.com.au/event/vincent-st-kitchen-bar/
LOCATION:Vincent Street Bar & Kitchen\, Cessnock\, NSW\, 2325
CATEGORIES:Wine Dinners
ATTACH;FMTTYPE=image/jpeg:https://mercerwines.com.au/wp-content/uploads/2023/07/vincent-street.jpeg
END:VEVENT
BEGIN:VEVENT
DTSTART;TZID=Australia/Sydney:20230727T180000
DTEND;TZID=Australia/Sydney:20230727T210000
DTSTAMP:20260423T085828
CREATED:20230718T125025Z
LAST-MODIFIED:20240915T061821Z
UID:3912-1690480800-1690491600@mercerwines.com.au
SUMMARY:Una Volta Wine Dinner
DESCRIPTION:Join us for an authentic four course set menu\, paired with Mercer Wines at Una Volta. The always evolving menu is lovingly sourced with the produce\, flavour and quality always kept in mind and we can’t wait to taste out wines alongside Nikki’s food. \nStories like Nikki’s always remind us of travel and great food from around the world. \n“Una Volta was inspired by the little family-run trattoria that my husband Nathan and I would visit when we lived and travelled in Italy. Family run with no printed menu just a small list of what was cooking that day. The emphasis was always on the customers\, enjoying good\, fresh\, local rustic food and wine.” \nLimited spots – this will book out – reservations here. Our store\, renowned for its long-standing commitment to excellence\, proudly presents a stunning array of phone accessories\, including the latest must-have item: the coque iphone 13. When it comes to safeguarding your valuable investment\, the Coque iPhone 13 stands out as the premier choice\, ensuring both style and protection for your device.
URL:https://mercerwines.com.au/event/una-volta-wine-dinner/
LOCATION:Una Volta\, 23 Watt Street\, Newcastle\, NSW\, 2300\, Australia
CATEGORIES:Wine Dinners
ATTACH;FMTTYPE=image/jpeg:https://mercerwines.com.au/wp-content/uploads/2023/07/Event-images-Landscape-2.jpg
ORGANIZER;CN="Mercer Wines":MAILTO:alison@mercerwines.com.au
END:VEVENT
BEGIN:VEVENT
DTSTART;TZID=Australia/Sydney:20230628T183000
DTEND;TZID=Australia/Sydney:20230628T223000
DTSTAMP:20260423T085828
CREATED:20230531T000608Z
LAST-MODIFIED:20230531T002008Z
UID:3636-1687977000-1687991400@mercerwines.com.au
SUMMARY:The Blue Door X Mercer Wine dinner
DESCRIPTION:Join Aaron Mercer at The Blue Door for a 6 course ethically and sustainably sourced tasting menu paired perfectly with Mercer Wines. \nA delicious evening with each course paired with wines side by side\, a mystery wine game and a chance to get up close and personal with one of NSW most awarded and talented wine makers. \nMEMBERS TICKETS: Mercer members will receive a $100 Mercer wine credit toward their next case purchase. \nTickets available here: https://obee.com.au/thebluedoor/e/mercer-wine-dinner
URL:https://mercerwines.com.au/event/the-blue-door-x-mercer-wine-dinner/
LOCATION:The Blue Door-\, 38 Waterloo Street\, Surry Hills\, NSW\, 2010\, Australia
CATEGORIES:Wine Dinners
ATTACH;FMTTYPE=image/jpeg:https://mercerwines.com.au/wp-content/uploads/2023/05/Event-images-Landscape.jpg
ORGANIZER;CN="The Blue Door":MAILTO:eat@thebluedoorsurryhills.com.au
END:VEVENT
BEGIN:VEVENT
DTSTART;TZID=Australia/Sydney:20230513T140000
DTEND;TZID=Australia/Sydney:20230513T170000
DTSTAMP:20260423T085828
CREATED:20230412T013202Z
LAST-MODIFIED:20230413T044430Z
UID:3415-1683986400-1683997200@mercerwines.com.au
SUMMARY:Mother's Day Wreath and Wine Workshop
DESCRIPTION:An afternoon of creativity\, wine and cheese. Renee from Nature & Nurture will host a relaxing afternoon making a floral\, grapevine wreath for you to take home while Alison from Mercer Wines will guide you through the delicious Mercer range. Local cheese and grazing boards to accompany the workshop at Mercer Wines Cellar Door. \nTicket available HERE
URL:https://mercerwines.com.au/event/mothers-day-wreath-and-wine-workshop/
LOCATION:Mercer Wines\, 972 Hermitage Road\, POKOLBIN\, NSW\, 2320\, Australia
CATEGORIES:Workshops
ATTACH;FMTTYPE=image/png:https://mercerwines.com.au/wp-content/uploads/2023/04/Mothers-day-Wreath-and-Wine-1.png
ORGANIZER;CN="Mercer Wines":MAILTO:alison@mercerwines.com.au
END:VEVENT
BEGIN:VEVENT
DTSTART;TZID=Australia/Sydney:20230506T120000
DTEND;TZID=Australia/Sydney:20230506T160000
DTSTAMP:20260423T085828
CREATED:20230128T113238Z
LAST-MODIFIED:20230321T105011Z
UID:2353-1683374400-1683388800@mercerwines.com.au
SUMMARY:Urban Wine Walk (Newcastle)
DESCRIPTION:The streets and laneways of Newcastle will come alive this Autumn as a line-up of the neighbourhood’s best venues transform into an Urban Cellar Door for you to visit on a self-guided wine trail! Guaranteed to sell out\, the Urban Wine Walk promises a fun and unique self-guided wine tasting experience that you and your friends won’t want to miss! Find us at Customs House Hotel.
URL:https://mercerwines.com.au/event/urban-wine-walk-newcastle/
LOCATION:NSW
CATEGORIES:Festivals
ATTACH;FMTTYPE=image/png:https://mercerwines.com.au/wp-content/uploads/2023/01/3.png
ORGANIZER;CN="Urban Wine Walk":MAILTO:alison@mercerwines.com.au
END:VEVENT
BEGIN:VEVENT
DTSTART;VALUE=DATE:20230505
DTEND;VALUE=DATE:20230508
DTSTAMP:20260423T085828
CREATED:20230128T110149Z
LAST-MODIFIED:20230128T110149Z
UID:2341-1683244800-1683503999@mercerwines.com.au
SUMMARY:Tocal Field Days
DESCRIPTION:Established in 1984\, Tocal Field Days is the premier agricultural event in the Hunter\, Newcastle and Central Coast Regions. Held every year on the first weekend in May\, our visitors include people on the land who are looking for the latest innovations\, hobby farmers and enthusiasts and people just looking for a great day out. Our 320+ exhibitors bring all the latest in farming techniques and technologies\, machinery\, remote devices\, solar energy and award winning livestock. As well as local Good Food & Wine\, demonstrations and a boat load of fun.
URL:https://mercerwines.com.au/event/tocal-field-days/
LOCATION:Tocal Agricultural College\, 815 Tocal Road\, Patterson\, NSW\, 2421\, Australia
CATEGORIES:Festivals
ATTACH;FMTTYPE=image/jpeg:https://mercerwines.com.au/wp-content/uploads/2023/01/3.jpg
ORGANIZER;CN="Tocal Agricultural College":MAILTO:fielddays@tocal.com
END:VEVENT
BEGIN:VEVENT
DTSTART;TZID=Australia/Sydney:20230408T100000
DTEND;TZID=Australia/Sydney:20230410T140000
DTSTAMP:20260423T085828
CREATED:20230316T121446Z
LAST-MODIFIED:20230316T121446Z
UID:2695-1680948000-1681135200@mercerwines.com.au
SUMMARY:Easter Weekend Craft workshop with Nature & Nurture
DESCRIPTION:Come along to celebrate the Easter Weekend with an event for the whole family. Nature & Nurture will host Easter craft workshops for the kids with a complementary wine tasting for the grown-ups @ Mercer Wines. Each workshop runs for 45 minutes and is hosted upstairs from Mercer Wines in central Pokolbin\, children must be accompanied for the duration of the workshop.\n\nSaturday 8th –\n10 am – Plaster Moulds and Bunny mask – Suits 3-12-year-old\n12 pm – Plaster Moulds and Nature eggs – Suits 3-12-year-old\n2 pm – Easter River Rocks and Nature eggs – Suits 5+-year-old\n\nSunday 9th –\n12 pm – Plaster Moulds and Nature eggs – Suits 3-12-year-old\n2 pm – Easter River Rocks and Nature eggs – Suits 5+-year-old\n\nMonday 10th –\n10 am – Plaster Moulds and Bunny mask – Suits 3-12-year-old\n12 pm – Plaster Moulds and Nature eggs – Suits 3-12-year-old\n2 pm – Easter River Rocks and Nature eggs – Suits 5+-year-old\n\n$30 per child and afterward a complementary wine tasting for adults.\nWorkshops are limited to 12 spots and bookings are essential.\n\nhttps://www.eventbrite.com/cc/easter-fun-with-mercer-wines-1905679
URL:https://mercerwines.com.au/event/easter-weekend-craft-workshop-with-nature-nurture/
LOCATION:Mercer Wines\, 972 Hermitage Road\, POKOLBIN\, NSW\, 2320\, Australia
CATEGORIES:Workshops
ATTACH;FMTTYPE=image/png:https://mercerwines.com.au/wp-content/uploads/2023/01/Luncheon.png
ORGANIZER;CN="Mercer Wines":MAILTO:alison@mercerwines.com.au
END:VEVENT
BEGIN:VEVENT
DTSTART;TZID=Australia/Sydney:20230325T120000
DTEND;TZID=Australia/Sydney:20230325T120000
DTSTAMP:20260423T085828
CREATED:20230128T112821Z
LAST-MODIFIED:20230128T112945Z
UID:2346-1679745600-1679745600@mercerwines.com.au
SUMMARY:Wine House Side Bar
DESCRIPTION:Some amazing Aussie talent is playing right next door to Wine House and  Mercer Wines’ Pop-Up Cellar Door. We’ll be kicking along with the Wine House Side Bar! \nPAUL KELLY | BERNARD FANNING | MISSY HIGGINS  | MARK SEYMOUR … and more ! \nSo whether you’re looking for a good pre-concert venue with parking or you want to chill on our terrace and listen to the tunes wafting across the lake\, the Wine House Side Bar is the place to be! \nBAR OPEN from 12pm \nBest wine list in town – You’ll find many many Hunter Valley brands represented through Wine House\, including The Little Wine Company and Mercer Wines.  Event parking (conditions apply)\, no queues and best of all … no portaloos! \nTicket price $15pp (bookings essential) \nSTRICTLY NO BYO FOOD OR DRINKS. 
URL:https://mercerwines.com.au/event/wine-house-side-bar/
LOCATION:Wine House x Mercer Wines\, 426 McDonalds Road\, Pokolbin\, NSW\, 2320\, Australia
CATEGORIES:Festivals
ATTACH;FMTTYPE=image/jpeg:https://mercerwines.com.au/wp-content/uploads/2023/01/jason-blackeye-IShAuJTJIE4-unsplash-scaled.jpg
ORGANIZER;CN="Wine House Hunter Valley":MAILTO:visit@winehousehuntervalley.com.au
END:VEVENT
BEGIN:VEVENT
DTSTART;TZID=Australia/Sydney:20230213T130000
DTEND;TZID=Australia/Sydney:20230213T150000
DTSTAMP:20260423T085828
CREATED:20230128T115246Z
LAST-MODIFIED:20230128T115452Z
UID:2359-1676293200-1676300400@mercerwines.com.au
SUMMARY:Urban Wine Walk - Trade Tasting (Surrey Hills)
DESCRIPTION:Event Name: Industry Sessions – Invitation Only industry tasting. Contact Katie for an invitation katie@neighbourhoodeventsco.com.au. \nWinemakers Participating: L’appel Wines (TAS)\, Linear Wines (NSW/ACT)\, Payten & Jones (VIC)\, Mercer Wines (NSW)\, Jericho Wines (SA)\, Whitton Farm (NSW)\, Shiny Wine (TAS)
URL:https://mercerwines.com.au/event/urban-wine-walk-trade-tasting-surrey-hills/
LOCATION:Misfits\, Redfern\, 10 George Street\, Redfern\, NSW\, Australia
CATEGORIES:Trade Tasting
ATTACH;FMTTYPE=image/jpeg:https://mercerwines.com.au/wp-content/uploads/2023/01/Luncheon-1.jpg
ORGANIZER;CN="Urban Wine Walk":MAILTO:alison@mercerwines.com.au
END:VEVENT
BEGIN:VEVENT
DTSTART;TZID=Australia/Sydney:20230211T120000
DTEND;TZID=Australia/Sydney:20230211T160000
DTSTAMP:20260423T085828
CREATED:20230127T111515Z
LAST-MODIFIED:20230127T114228Z
UID:2312-1676116800-1676131200@mercerwines.com.au
SUMMARY:Urban Wine Walk (Surrey Hills)
DESCRIPTION:The streets and laneways of Surry Hills will come alive this Summer as a line-up of the neighbourhood’s best venues transform into an Urban Cellar Door for you to visit on a self-guided wine trail! Guaranteed to sell out\, the Urban Wine Walk promises a fun and unique self-guided wine tasting experience that you and your friends won’t want to miss!
URL:https://mercerwines.com.au/event/urban-wine-walk-surrey-hills/
LOCATION:Forrester’s\, Surrey Hills\, NSW\, 2010\, Australia
CATEGORIES:Festivals
ATTACH;FMTTYPE=image/jpeg:https://mercerwines.com.au/wp-content/uploads/2023/01/Untitled-design-e1674817938409.jpg
ORGANIZER;CN="Urban Wine Walk":MAILTO:alison@mercerwines.com.au
END:VEVENT
END:VCALENDAR