BEGIN:VCALENDAR
VERSION:2.0
PRODID:-//Mercer Wines - ECPv6.15.14//NONSGML v1.0//EN
CALSCALE:GREGORIAN
METHOD:PUBLISH
X-ORIGINAL-URL:https://mercerwines.com.au
X-WR-CALDESC:Events for Mercer Wines
REFRESH-INTERVAL;VALUE=DURATION:PT1H
X-Robots-Tag:noindex
X-PUBLISHED-TTL:PT1H
BEGIN:VTIMEZONE
TZID:Australia/Sydney
BEGIN:STANDARD
TZOFFSETFROM:+1100
TZOFFSETTO:+1000
TZNAME:AEST
DTSTART:20220402T160000
END:STANDARD
BEGIN:DAYLIGHT
TZOFFSETFROM:+1000
TZOFFSETTO:+1100
TZNAME:AEDT
DTSTART:20221001T160000
END:DAYLIGHT
BEGIN:STANDARD
TZOFFSETFROM:+1100
TZOFFSETTO:+1000
TZNAME:AEST
DTSTART:20230401T160000
END:STANDARD
BEGIN:DAYLIGHT
TZOFFSETFROM:+1000
TZOFFSETTO:+1100
TZNAME:AEDT
DTSTART:20230930T160000
END:DAYLIGHT
BEGIN:STANDARD
TZOFFSETFROM:+1100
TZOFFSETTO:+1000
TZNAME:AEST
DTSTART:20240406T160000
END:STANDARD
BEGIN:DAYLIGHT
TZOFFSETFROM:+1000
TZOFFSETTO:+1100
TZNAME:AEDT
DTSTART:20241005T160000
END:DAYLIGHT
END:VTIMEZONE
BEGIN:VEVENT
DTSTART;TZID=Australia/Sydney:20231029T120000
DTEND;TZID=Australia/Sydney:20231029T160000
DTSTAMP:20260424T085936
CREATED:20230127T120026Z
LAST-MODIFIED:20231009T042035Z
UID:2331-1698580800-1698595200@mercerwines.com.au
SUMMARY:Mercer Wines 2023 Spring Luncheon
DESCRIPTION:Join Alison and Aaron for a Mediterranean feast paired with Mercer’s Hunter Valley favourites. 4 Courses from Chef Nick Vivian\, Live Music by Georgie Winchester and a personal Winemaker’s blending session with Aaron Mercer. Bring your friends for a celebration of Spring weather!
URL:https://mercerwines.com.au/event/mercer-wines-2023-spring-luncheon/
LOCATION:Hunter Valley Wine Country Location\, McDonalds Rd\, Pokolbin\, NSW\, 2320\, Australia
CATEGORIES:Wine Dinners
ATTACH;FMTTYPE=image/jpeg:https://mercerwines.com.au/wp-content/uploads/2023/01/Luncheon.jpg
ORGANIZER;CN="Mercer Wines":MAILTO:alison@mercerwines.com.au
END:VEVENT
END:VCALENDAR