BEGIN:VCALENDAR
VERSION:2.0
PRODID:-//Mercer Wines - ECPv6.15.14//NONSGML v1.0//EN
CALSCALE:GREGORIAN
METHOD:PUBLISH
X-WR-CALNAME:Mercer Wines
X-ORIGINAL-URL:https://mercerwines.com.au
X-WR-CALDESC:Events for Mercer Wines
REFRESH-INTERVAL;VALUE=DURATION:PT1H
X-Robots-Tag:noindex
X-PUBLISHED-TTL:PT1H
BEGIN:VTIMEZONE
TZID:Australia/Sydney
BEGIN:STANDARD
TZOFFSETFROM:+1100
TZOFFSETTO:+1000
TZNAME:AEST
DTSTART:20220402T160000
END:STANDARD
BEGIN:DAYLIGHT
TZOFFSETFROM:+1000
TZOFFSETTO:+1100
TZNAME:AEDT
DTSTART:20221001T160000
END:DAYLIGHT
BEGIN:STANDARD
TZOFFSETFROM:+1100
TZOFFSETTO:+1000
TZNAME:AEST
DTSTART:20230401T160000
END:STANDARD
BEGIN:DAYLIGHT
TZOFFSETFROM:+1000
TZOFFSETTO:+1100
TZNAME:AEDT
DTSTART:20230930T160000
END:DAYLIGHT
BEGIN:STANDARD
TZOFFSETFROM:+1100
TZOFFSETTO:+1000
TZNAME:AEST
DTSTART:20240406T160000
END:STANDARD
BEGIN:DAYLIGHT
TZOFFSETFROM:+1000
TZOFFSETTO:+1100
TZNAME:AEDT
DTSTART:20241005T160000
END:DAYLIGHT
END:VTIMEZONE
BEGIN:VEVENT
DTSTART;TZID=Australia/Sydney:20231029T110000
DTEND;TZID=Australia/Sydney:20231029T170000
DTSTAMP:20260422T075559
CREATED:20230918T145046Z
LAST-MODIFIED:20230918T145046Z
UID:4528-1698577200-1698598800@mercerwines.com.au
SUMMARY:Wahroonga Food and Wine Festival
DESCRIPTION:Wahroonga\, Sydney – Mark your calendars! The much-loved Wahroonga Food and Wine Festival is back for its 9th annual edition\, promising a sensational culinary experience amidst the picturesque setting of Wahroonga Park. This year\, the festival will take place on Sunday\, October 29th\, 2023\, from 11 am to 5 pm\, and it’s free for all to attend. \nWhat’s in Store: \nThis year\, we’ve carefully selected an impressive array of wineries from across NSW and Australia. Get ready to meet the passionate winemakers and indulge in tasting and purchasing their premium and award-winning wines. With over 130 wines from 30 wineries to sample\, your taste buds are in for a treat. And that’s not all – complementing the wines\, you’ll find a diverse selection of gourmet food stalls offering delectable cuisines from around the world and local produce to savor. \nTicketing Information: The festival is free to attend. For wine enthusiasts\, branded festival wine-tasting glasses and ticket packages are available for sale at the Tasting Ticket Marquee on the day. Pre-Sale Wine Tasting Packages can also be purchased online\, starting at $37.50 (1 glass & 5 tasting tickets)\, for collection at the ‘Express Pick Up’ on the day. PRE-SALE PACKAGES here
URL:https://mercerwines.com.au/event/wahroonga-food-and-wine-festival/
LOCATION:Wahroonga Park\, Wahroonga
CATEGORIES:Festivals
ATTACH;FMTTYPE=image/jpeg:https://mercerwines.com.au/wp-content/uploads/2023/09/29oct17_016-scaled.jpg
END:VEVENT
END:VCALENDAR