BEGIN:VCALENDAR
VERSION:2.0
PRODID:-//Mercer Wines - ECPv6.15.14//NONSGML v1.0//EN
CALSCALE:GREGORIAN
METHOD:PUBLISH
X-WR-CALNAME:Mercer Wines
X-ORIGINAL-URL:https://mercerwines.com.au
X-WR-CALDESC:Events for Mercer Wines
REFRESH-INTERVAL;VALUE=DURATION:PT1H
X-Robots-Tag:noindex
X-PUBLISHED-TTL:PT1H
BEGIN:VTIMEZONE
TZID:Australia/Sydney
BEGIN:STANDARD
TZOFFSETFROM:+1100
TZOFFSETTO:+1000
TZNAME:AEST
DTSTART:20220402T160000
END:STANDARD
BEGIN:DAYLIGHT
TZOFFSETFROM:+1000
TZOFFSETTO:+1100
TZNAME:AEDT
DTSTART:20221001T160000
END:DAYLIGHT
BEGIN:STANDARD
TZOFFSETFROM:+1100
TZOFFSETTO:+1000
TZNAME:AEST
DTSTART:20230401T160000
END:STANDARD
BEGIN:DAYLIGHT
TZOFFSETFROM:+1000
TZOFFSETTO:+1100
TZNAME:AEDT
DTSTART:20230930T160000
END:DAYLIGHT
BEGIN:STANDARD
TZOFFSETFROM:+1100
TZOFFSETTO:+1000
TZNAME:AEST
DTSTART:20240406T160000
END:STANDARD
BEGIN:DAYLIGHT
TZOFFSETFROM:+1000
TZOFFSETTO:+1100
TZNAME:AEDT
DTSTART:20241005T160000
END:DAYLIGHT
END:VTIMEZONE
BEGIN:VEVENT
DTSTART;VALUE=DATE:20230505
DTEND;VALUE=DATE:20230508
DTSTAMP:20260422T171538
CREATED:20230128T110149Z
LAST-MODIFIED:20230128T110149Z
UID:2341-1683244800-1683503999@mercerwines.com.au
SUMMARY:Tocal Field Days
DESCRIPTION:Established in 1984\, Tocal Field Days is the premier agricultural event in the Hunter\, Newcastle and Central Coast Regions. Held every year on the first weekend in May\, our visitors include people on the land who are looking for the latest innovations\, hobby farmers and enthusiasts and people just looking for a great day out. Our 320+ exhibitors bring all the latest in farming techniques and technologies\, machinery\, remote devices\, solar energy and award winning livestock. As well as local Good Food & Wine\, demonstrations and a boat load of fun.
URL:https://mercerwines.com.au/event/tocal-field-days/
LOCATION:Tocal Agricultural College\, 815 Tocal Road\, Patterson\, NSW\, 2421\, Australia
CATEGORIES:Festivals
ATTACH;FMTTYPE=image/jpeg:https://mercerwines.com.au/wp-content/uploads/2023/01/3.jpg
ORGANIZER;CN="Tocal Agricultural College":MAILTO:fielddays@tocal.com
END:VEVENT
BEGIN:VEVENT
DTSTART;TZID=Australia/Sydney:20230506T120000
DTEND;TZID=Australia/Sydney:20230506T160000
DTSTAMP:20260422T171538
CREATED:20230128T113238Z
LAST-MODIFIED:20230321T105011Z
UID:2353-1683374400-1683388800@mercerwines.com.au
SUMMARY:Urban Wine Walk (Newcastle)
DESCRIPTION:The streets and laneways of Newcastle will come alive this Autumn as a line-up of the neighbourhood’s best venues transform into an Urban Cellar Door for you to visit on a self-guided wine trail! Guaranteed to sell out\, the Urban Wine Walk promises a fun and unique self-guided wine tasting experience that you and your friends won’t want to miss! Find us at Customs House Hotel.
URL:https://mercerwines.com.au/event/urban-wine-walk-newcastle/
LOCATION:NSW
CATEGORIES:Festivals
ATTACH;FMTTYPE=image/png:https://mercerwines.com.au/wp-content/uploads/2023/01/3.png
ORGANIZER;CN="Urban Wine Walk":MAILTO:alison@mercerwines.com.au
END:VEVENT
END:VCALENDAR