BEGIN:VCALENDAR
VERSION:2.0
PRODID:-//Mercer Wines - ECPv6.15.14//NONSGML v1.0//EN
CALSCALE:GREGORIAN
METHOD:PUBLISH
X-WR-CALNAME:Mercer Wines
X-ORIGINAL-URL:https://mercerwines.com.au
X-WR-CALDESC:Events for Mercer Wines
REFRESH-INTERVAL;VALUE=DURATION:PT1H
X-Robots-Tag:noindex
X-PUBLISHED-TTL:PT1H
BEGIN:VTIMEZONE
TZID:Australia/Sydney
BEGIN:STANDARD
TZOFFSETFROM:+1100
TZOFFSETTO:+1000
TZNAME:AEST
DTSTART:20240406T160000
END:STANDARD
BEGIN:DAYLIGHT
TZOFFSETFROM:+1000
TZOFFSETTO:+1100
TZNAME:AEDT
DTSTART:20241005T160000
END:DAYLIGHT
BEGIN:STANDARD
TZOFFSETFROM:+1100
TZOFFSETTO:+1000
TZNAME:AEST
DTSTART:20250405T160000
END:STANDARD
BEGIN:DAYLIGHT
TZOFFSETFROM:+1000
TZOFFSETTO:+1100
TZNAME:AEDT
DTSTART:20251004T160000
END:DAYLIGHT
BEGIN:STANDARD
TZOFFSETFROM:+1100
TZOFFSETTO:+1000
TZNAME:AEST
DTSTART:20260404T160000
END:STANDARD
BEGIN:DAYLIGHT
TZOFFSETFROM:+1000
TZOFFSETTO:+1100
TZNAME:AEDT
DTSTART:20261003T160000
END:DAYLIGHT
END:VTIMEZONE
BEGIN:VEVENT
DTSTART;TZID=Australia/Sydney:20250920T120000
DTEND;TZID=Australia/Sydney:20250920T160000
DTSTAMP:20260420T150429
CREATED:20240724T135130Z
LAST-MODIFIED:20250525T024806Z
UID:8746-1758369600-1758384000@mercerwines.com.au
SUMMARY:"Sip & Shuck" - Oysters & Wine pairings + Live music
DESCRIPTION:“Sip & Shuck” promises an unforgettable experience of wine\, seafood\, and music in the heart of wine country.\n\n\n\n\nJoin us for a weekend of coastal delights at “Sip & Shuck” hosted by Mercer Wines\, nestled on Hermitage Road with breathtaking views and a selection of award-winning Hunter Valley wines. Experience the perfect pairing of freshly shucked oysters with our unique Picpoul Blanc\, Semillon and Vermentino. You can reserve your table and tasting HERE. \nLive jazz music by Joe McManus will set the mood with his extensive repertoire of relaxed jazz\, Irish\, and soulful blues on Saturday\, creating a lively atmosphere as you sip and savour. Indulge in oysters and gourmet picnics available. \nStarting at 12pm\, the Mercer Wines Cellar Door is a great spot to relax and indulge your tastebuds while the children play lego\, soccer\, or draw. \nOn Sunday\, you can taste some exquisite Mercer Italian Wine Varietals at Our Italian Festival
URL:https://mercerwines.com.au/event/sipandshuck/
LOCATION:Mercer Wines\, 972 Hermitage Road\, POKOLBIN\, NSW\, 2320\, Australia
CATEGORIES:CellarDoor,Festivals
ATTACH;FMTTYPE=image/jpeg:https://mercerwines.com.au/wp-content/uploads/2024/07/NEL-2.jpg
ORGANIZER;CN="Mercer Wines":MAILTO:alison@mercerwines.com.au
END:VEVENT
BEGIN:VEVENT
DTSTART;TZID=Australia/Sydney:20250920T120000
DTEND;TZID=Australia/Sydney:20250920T160000
DTSTAMP:20260420T150429
CREATED:20240929T053417Z
LAST-MODIFIED:20250731T235147Z
UID:9442-1758369600-1758384000@mercerwines.com.au
SUMMARY:Our Italian Festival from the 2025 D'Vine Festival
DESCRIPTION:Our Italian Festival on Mistletoe Lane with Our Italian Table- September 20th. \nLove all things Italian? Indulge in Italian food\, live music\, and our Italian varietals like Barbera and Vermentino. It’s a celebration of la dolce vita in the heart of the Hunter Valley! Fancy cars\, Italian picnic hampers\, pasta making demos\, gelato\, wine\, dancin’ and coffee\n\n\n\n\n\nDon’t miss the live pasta-making demos or just kick back on your picnic rug with a warm plate of arancini or a gourmet hamper packed with Italian delights. \nStill craving more? soirèe will be serving up delicious Italian street food treats during the day. And yes\, there will be wood-fired pizza by the slice as the sun goes down! Because what’s a trip to Italy without pizza? \nFeeling thirsty? Pair your gourmet delights with a glass from local wine stalls including local legends like Wombat Crossing Vineyard\, Thomas Wines\, Crossing Creek Estate\, Mercer Wines\, and Peter Drayton Wines. Meet the makers\, sip the goods\, and discover how the Hunter does wine\, Italian style. \n\nFREE ENTRY\, Italian Classes\, Italian delights\, Italian cars\, Wine tasting\, Gelato\, Coffee and Live Music Tickets available HERE
URL:https://mercerwines.com.au/event/dvine-italian-festival-x-our-italian-table-pokolbin/
LOCATION:Nacita Estate\, Mistletoe Lane\, Pokolbin\, NSW\, 2320\, Australia
CATEGORIES:Festivals
ATTACH;FMTTYPE=image/png:https://mercerwines.com.au/wp-content/uploads/2024/09/Screen-Shot-2024-09-29-at-3.28.58-pm.png
ORGANIZER;CN="Mercer Wines":MAILTO:alison@mercerwines.com.au
END:VEVENT
BEGIN:VEVENT
DTSTART;TZID=Australia/Sydney:20250921T100000
DTEND;TZID=Australia/Sydney:20250921T140000
DTSTAMP:20260420T150429
CREATED:20250908T133509Z
LAST-MODIFIED:20250908T133509Z
UID:12513-1758448800-1758463200@mercerwines.com.au
SUMMARY:St Ives Food and Wine Festival
DESCRIPTION:Join us at the St Ives Food and Wine Festival on Saturday 21st  September from 10am – 2pm.  Make a day of it on the beautiful St Ives Village Green creating fun memories with your family and friends. St Ives Food and Wine Festival is a Rotary Club of St Ives event to bring together the community on the north shore. And we can’t wait to share Mercer Wines with you there. https://www.stivesfoodandwine.com/
URL:https://mercerwines.com.au/event/st-ives-food-and-wine-festival-2/
LOCATION:St Ives Village Green\, Memorial Drive\, St Ives\, NSW\, 2075\, Australia
CATEGORIES:Festivals
ATTACH;FMTTYPE=image/png:https://mercerwines.com.au/wp-content/uploads/2025/09/Screenshot-2025-09-08-233114.png
END:VEVENT
END:VCALENDAR