BEGIN:VCALENDAR
VERSION:2.0
PRODID:-//Mercer Wines - ECPv6.15.14//NONSGML v1.0//EN
CALSCALE:GREGORIAN
METHOD:PUBLISH
X-WR-CALNAME:Mercer Wines
X-ORIGINAL-URL:https://mercerwines.com.au
X-WR-CALDESC:Events for Mercer Wines
REFRESH-INTERVAL;VALUE=DURATION:PT1H
X-Robots-Tag:noindex
X-PUBLISHED-TTL:PT1H
BEGIN:VTIMEZONE
TZID:Australia/Sydney
BEGIN:STANDARD
TZOFFSETFROM:+1100
TZOFFSETTO:+1000
TZNAME:AEST
DTSTART:20220402T160000
END:STANDARD
BEGIN:DAYLIGHT
TZOFFSETFROM:+1000
TZOFFSETTO:+1100
TZNAME:AEDT
DTSTART:20221001T160000
END:DAYLIGHT
BEGIN:STANDARD
TZOFFSETFROM:+1100
TZOFFSETTO:+1000
TZNAME:AEST
DTSTART:20230401T160000
END:STANDARD
BEGIN:DAYLIGHT
TZOFFSETFROM:+1000
TZOFFSETTO:+1100
TZNAME:AEDT
DTSTART:20230930T160000
END:DAYLIGHT
BEGIN:STANDARD
TZOFFSETFROM:+1100
TZOFFSETTO:+1000
TZNAME:AEST
DTSTART:20240406T160000
END:STANDARD
BEGIN:DAYLIGHT
TZOFFSETFROM:+1000
TZOFFSETTO:+1100
TZNAME:AEDT
DTSTART:20241005T160000
END:DAYLIGHT
END:VTIMEZONE
BEGIN:VEVENT
DTSTART;TZID=Australia/Sydney:20230325T120000
DTEND;TZID=Australia/Sydney:20230325T120000
DTSTAMP:20260422T185804
CREATED:20230128T112821Z
LAST-MODIFIED:20230128T112945Z
UID:2346-1679745600-1679745600@mercerwines.com.au
SUMMARY:Wine House Side Bar
DESCRIPTION:Some amazing Aussie talent is playing right next door to Wine House and  Mercer Wines’ Pop-Up Cellar Door. We’ll be kicking along with the Wine House Side Bar! \nPAUL KELLY | BERNARD FANNING | MISSY HIGGINS  | MARK SEYMOUR … and more ! \nSo whether you’re looking for a good pre-concert venue with parking or you want to chill on our terrace and listen to the tunes wafting across the lake\, the Wine House Side Bar is the place to be! \nBAR OPEN from 12pm \nBest wine list in town – You’ll find many many Hunter Valley brands represented through Wine House\, including The Little Wine Company and Mercer Wines.  Event parking (conditions apply)\, no queues and best of all … no portaloos! \nTicket price $15pp (bookings essential) \nSTRICTLY NO BYO FOOD OR DRINKS. 
URL:https://mercerwines.com.au/event/wine-house-side-bar/
LOCATION:Wine House x Mercer Wines\, 426 McDonalds Road\, Pokolbin\, NSW\, 2320\, Australia
CATEGORIES:Festivals
ATTACH;FMTTYPE=image/jpeg:https://mercerwines.com.au/wp-content/uploads/2023/01/jason-blackeye-IShAuJTJIE4-unsplash-scaled.jpg
ORGANIZER;CN="Wine House Hunter Valley":MAILTO:visit@winehousehuntervalley.com.au
END:VEVENT
END:VCALENDAR