BEGIN:VCALENDAR
VERSION:2.0
PRODID:-//Mercer Wines - ECPv6.15.14//NONSGML v1.0//EN
CALSCALE:GREGORIAN
METHOD:PUBLISH
X-ORIGINAL-URL:https://mercerwines.com.au
X-WR-CALDESC:Events for Mercer Wines
REFRESH-INTERVAL;VALUE=DURATION:PT1H
X-Robots-Tag:noindex
X-PUBLISHED-TTL:PT1H
BEGIN:VTIMEZONE
TZID:Australia/Sydney
BEGIN:STANDARD
TZOFFSETFROM:+1100
TZOFFSETTO:+1000
TZNAME:AEST
DTSTART:20230401T160000
END:STANDARD
BEGIN:DAYLIGHT
TZOFFSETFROM:+1000
TZOFFSETTO:+1100
TZNAME:AEDT
DTSTART:20230930T160000
END:DAYLIGHT
BEGIN:STANDARD
TZOFFSETFROM:+1100
TZOFFSETTO:+1000
TZNAME:AEST
DTSTART:20240406T160000
END:STANDARD
BEGIN:DAYLIGHT
TZOFFSETFROM:+1000
TZOFFSETTO:+1100
TZNAME:AEDT
DTSTART:20241005T160000
END:DAYLIGHT
BEGIN:STANDARD
TZOFFSETFROM:+1100
TZOFFSETTO:+1000
TZNAME:AEST
DTSTART:20250405T160000
END:STANDARD
BEGIN:DAYLIGHT
TZOFFSETFROM:+1000
TZOFFSETTO:+1100
TZNAME:AEDT
DTSTART:20251004T160000
END:DAYLIGHT
BEGIN:STANDARD
TZOFFSETFROM:+1100
TZOFFSETTO:+1000
TZNAME:AEST
DTSTART:20260404T160000
END:STANDARD
BEGIN:DAYLIGHT
TZOFFSETFROM:+1000
TZOFFSETTO:+1100
TZNAME:AEDT
DTSTART:20261003T160000
END:DAYLIGHT
BEGIN:STANDARD
TZOFFSETFROM:+1100
TZOFFSETTO:+1000
TZNAME:AEST
DTSTART:20270403T160000
END:STANDARD
BEGIN:DAYLIGHT
TZOFFSETFROM:+1000
TZOFFSETTO:+1100
TZNAME:AEDT
DTSTART:20271002T160000
END:DAYLIGHT
END:VTIMEZONE
BEGIN:VEVENT
DTSTART;TZID=Australia/Sydney:20260228T120000
DTEND;TZID=Australia/Sydney:20260228T140000
DTSTAMP:20260420T064043
CREATED:20260208T022136Z
LAST-MODIFIED:20260208T022136Z
UID:12557-1772280000-1772287200@mercerwines.com.au
SUMMARY:2026 Harvest Social
DESCRIPTION:Celebrate 2026 Harvest with Mercer Wines. A relaxed harvest gathering for members\, friends and locals.\nJoin us for one of two sessions to taste current releases\, hear a harvest update from the team\, and get a glimpse of what’s coming next in the cellar. Locals can pop in for a burger and members are welcome to collect their wine packs on the day.\n\nMembers: ComplimentaryGuests & locals: $25\n\nAndy Wright will be on site cooking up a storm with crunchy Korean Chicken & Slaw burgers.\nPlenty of space to relax\, feed the family\, bring the pup\, play lawn games in the shade.\nThis ticket includes your burger and a Glass of Wine\, if you are booking with friends\, be sure to email cellardoor@mercerwines.com.au to reserve your space.\n\nPrepurchase tickets here: http://www.mercerwines.com.au/products/harvest-social
URL:https://mercerwines.com.au/event/harvest-social/
LOCATION:Mercer Wines Cellar Door\, 972 Hermitage Road\, Pokolbin\, NSW\, 2320\, Australia
CATEGORIES:CellarDoor
ATTACH;FMTTYPE=image/jpeg:https://mercerwines.com.au/wp-content/uploads/2026/02/te-1920-x-1080-px-1-scaled.jpg
END:VEVENT
BEGIN:VEVENT
DTSTART;TZID=Australia/Sydney:20251019T110000
DTEND;TZID=Australia/Sydney:20251019T150000
DTSTAMP:20260420T064043
CREATED:20251001T072448Z
LAST-MODIFIED:20251010T050930Z
UID:12527-1760871600-1760886000@mercerwines.com.au
SUMMARY:Pizza & Pinot Grigio
DESCRIPTION:Come relax with the Mercer Family for a Pizza and glass of Pinot Grigio (or Noir!). “Out the Oven” Pizza will be on site cooking up a storm with fresh Pizza boats\, Pizzas and delicious local ingredients. \nThis ticket includes your own personal Pizza and a Glass of Wine. Prepurchase tickets here: https://mercerwines.com.au/products/pizza-pinot-grigio
URL:https://mercerwines.com.au/event/pizza-pinot-grigio/
LOCATION:Mercer Wines Cellar Door\, 972 Hermitage Road\, Pokolbin\, NSW\, 2320\, Australia
CATEGORIES:CellarDoor
ATTACH;FMTTYPE=image/jpeg:https://mercerwines.com.au/wp-content/uploads/2025/10/Pizza.jpg
END:VEVENT
BEGIN:VEVENT
DTSTART;TZID=Australia/Sydney:20251018T120000
DTEND;TZID=Australia/Sydney:20251018T160000
DTSTAMP:20260420T064043
CREATED:20250226T002340Z
LAST-MODIFIED:20250625T014838Z
UID:11162-1760788800-1760803200@mercerwines.com.au
SUMMARY:Mercer Spring Fiesta
DESCRIPTION:Join Alison\, Aaron and the Mercer team for a Mediterranean Fiesta as part of our roving Spring Lunch. A tapas feast\, live music and a walk through our favourite gourmet countries of the world. Bring your friends for a celebration of Spring weather\, great food and (ofcourse) the wine speaks for itself! \nImagine a sunny day in the Hunter Valley\, where freshly shucked oysters and sizzling tapas fills the air. Join us at Mercer Wines brand new cellar door for a unique experience that combines delicious food and exceptional wine. \n“We decided on a Mediterranean Fiesta because we love travelling and often explore varieties from Spain and Italy. It’s going to be such delicious celebration to replicate what we love about dining in those places – shared food\, cooking for the love of it\, lots of wine & sun.” – Alison. \nAll dietary needs catered for\, email alison@mercerwines.com.au for specific requests.
URL:https://mercerwines.com.au/event/mercer-spring-fiesta/
LOCATION:Mercer Wines Cellar Door\, 972 Hermitage Road\, Pokolbin\, NSW\, 2320\, Australia
CATEGORIES:CellarDoor,Festivals,Wine Dinners
ATTACH;FMTTYPE=image/jpeg:https://mercerwines.com.au/wp-content/uploads/2024/08/Event-images-Landscape-Instagram-Post.jpg
ORGANIZER;CN="Mercer Wines":MAILTO:alison@mercerwines.com.au
END:VEVENT
BEGIN:VEVENT
DTSTART;TZID=Australia/Sydney:20250920T120000
DTEND;TZID=Australia/Sydney:20250920T160000
DTSTAMP:20260420T064043
CREATED:20240724T135130Z
LAST-MODIFIED:20250525T024806Z
UID:8746-1758369600-1758384000@mercerwines.com.au
SUMMARY:"Sip & Shuck" - Oysters & Wine pairings + Live music
DESCRIPTION:“Sip & Shuck” promises an unforgettable experience of wine\, seafood\, and music in the heart of wine country.\n\n\n\n\nJoin us for a weekend of coastal delights at “Sip & Shuck” hosted by Mercer Wines\, nestled on Hermitage Road with breathtaking views and a selection of award-winning Hunter Valley wines. Experience the perfect pairing of freshly shucked oysters with our unique Picpoul Blanc\, Semillon and Vermentino. You can reserve your table and tasting HERE. \nLive jazz music by Joe McManus will set the mood with his extensive repertoire of relaxed jazz\, Irish\, and soulful blues on Saturday\, creating a lively atmosphere as you sip and savour. Indulge in oysters and gourmet picnics available. \nStarting at 12pm\, the Mercer Wines Cellar Door is a great spot to relax and indulge your tastebuds while the children play lego\, soccer\, or draw. \nOn Sunday\, you can taste some exquisite Mercer Italian Wine Varietals at Our Italian Festival
URL:https://mercerwines.com.au/event/sipandshuck/
LOCATION:Mercer Wines\, 972 Hermitage Road\, POKOLBIN\, NSW\, 2320\, Australia
CATEGORIES:CellarDoor,Festivals
ATTACH;FMTTYPE=image/jpeg:https://mercerwines.com.au/wp-content/uploads/2024/07/NEL-2.jpg
ORGANIZER;CN="Mercer Wines":MAILTO:alison@mercerwines.com.au
END:VEVENT
BEGIN:VEVENT
DTSTART;TZID=Australia/Sydney:20250608T120000
DTEND;TZID=Australia/Sydney:20250608T160000
DTSTAMP:20260420T064043
CREATED:20250525T025533Z
LAST-MODIFIED:20250525T025533Z
UID:12107-1749384000-1749398400@mercerwines.com.au
SUMMARY:Mercer Anniversary  - June 8th
DESCRIPTION:June 7th  & 8th it’s our 1st Anniversary on Hermitage Road at our Hunter Valley Cellar Door. \nCelebrate one incredible year with a relaxed weekend of wine\, food\, and live music with the Mercer Team. Be among the first to taste 5 exciting new Mercer releases\, enjoy woodfired mezze plates cooked onsite by Cam from Meltdown Café\, and soak up the Hunter Valley vibes with music from Patrick McMahon (12–3pm daily). \nTickets: \n\n$40 gets you a Top Shelf Tasting + delicious Mezze Plate (vegetarian or meat options)\n\nWalk-ins welcome\, but bookings are highly recommended.
URL:https://mercerwines.com.au/event/mercer-anniversary-june-8th/
LOCATION:Mercer Wines Cellar Door\, 972 Hermitage Road\, Pokolbin\, NSW\, 2320\, Australia
CATEGORIES:CellarDoor
ATTACH;FMTTYPE=image/jpeg:https://mercerwines.com.au/wp-content/uploads/2025/05/NEL-3.jpg
ORGANIZER;CN="Mercer Wines":MAILTO:alison@mercerwines.com.au
END:VEVENT
BEGIN:VEVENT
DTSTART;TZID=Australia/Sydney:20250607T120000
DTEND;TZID=Australia/Sydney:20250607T160000
DTSTAMP:20260420T064043
CREATED:20250525T024204Z
LAST-MODIFIED:20250525T025611Z
UID:12103-1749297600-1749312000@mercerwines.com.au
SUMMARY:Mercer Anniversary Weekend - June 7th
DESCRIPTION:June 7th  & 8th it’s our 1st Anniversary on Hermitage Road at our Hunter Valley Cellar Door. \nCelebrate one incredible year with a relaxed weekend of wine\, food\, and live music with the Mercer Team. Be among the first to taste 5 exciting new Mercer releases\, enjoy woodfired mezze plates cooked onsite by Cam from Meltdown Café\, and soak up the Hunter Valley vibes with music from Patrick McMahon (12–3pm daily). \nTickets: \n\n$40 gets you a Top Shelf Tasting + delicious Mezze Plate (vegetarian or meat options)\n\nWalk-ins welcome\, but bookings are highly recommended.
URL:https://mercerwines.com.au/event/mercer-anniversary-weekend/
LOCATION:Mercer Wines Cellar Door\, 972 Hermitage Road\, Pokolbin\, NSW\, 2320\, Australia
CATEGORIES:CellarDoor
ATTACH;FMTTYPE=image/jpeg:https://mercerwines.com.au/wp-content/uploads/2025/05/NEL-3.jpg
ORGANIZER;CN="Mercer Wines":MAILTO:alison@mercerwines.com.au
END:VEVENT
BEGIN:VEVENT
DTSTART;TZID=Australia/Sydney:20241026T120000
DTEND;TZID=Australia/Sydney:20241026T160000
DTSTAMP:20260420T064043
CREATED:20240825T102844Z
LAST-MODIFIED:20240826T075915Z
UID:6714-1729944000-1729958400@mercerwines.com.au
SUMMARY:Mercer Spring Fiesta
DESCRIPTION:Join Alison\, Aaron and the Mercer team for a Mediterranean Fiesta as part of our roving Spring Lunch. A Grand Paella from Chef Nick Vivian\, live music and a walk through our favourite gourmet countries of the world. Bring your friends for a celebration of Spring weather\, great food and (ofcourse) the wine speaks for itself! \nImagine a sunny day in the Hunter Valley\, where the aroma of sizzling paella fills the air. Join us at Mercer Wines brand new cellar door for a unique experience that combines delicious food and exceptional wine. \n“We decided on a Mediterranean Fiesta because we love travelling and often explore varieties from Spain and Italy. It’s going to be such delicious celebration to replicate what we love about dining in those places – shared food\, cooking for the love of it\, lots of wine & sun.” – Alison. \nAll dietary need catered for\, email alison@mercerwines.com.au for specific requests.
URL:https://mercerwines.com.au/event/2024-spring-lunch/
LOCATION:Mercer Wines Cellar Door\, 972 Hermitage Road\, Pokolbin\, NSW\, 2320\, Australia
CATEGORIES:CellarDoor,Festivals,Wine Dinners
ATTACH;FMTTYPE=image/jpeg:https://mercerwines.com.au/wp-content/uploads/2024/08/Spring-Fiesta.jpg
ORGANIZER;CN="Mercer Wines":MAILTO:alison@mercerwines.com.au
END:VEVENT
BEGIN:VEVENT
DTSTART;TZID=Australia/Sydney:20240901T120000
DTEND;TZID=Australia/Sydney:20240901T150000
DTSTAMP:20260420T064043
CREATED:20240724T140229Z
LAST-MODIFIED:20240825T044932Z
UID:8752-1725192000-1725202800@mercerwines.com.au
SUMMARY:Music @ Mercer Wines with Jo McManus
DESCRIPTION:Father’s Day @ Mercer Wines \nSundays Get Livelier with Joe McManus! \nJoin us for GOOD VIBES ONLY with Irish singer/songwriter Joe McManus\, continuing on Sunday September 1st from 12pm to 3pm. \nFor over 35 years\, Joe has been captivating audiences with his unique blend of relaxed Jazz\, soulful Blues\, and lively Irish music. His infectious energy is sure to leave you with a smile. So come on down to Mercer Wines\, relax with a glass of your favourite wine\, and let Joe’s music take you away. \nGrab some goods from the Mercer  Pantry \nGrab some goodies from our deli and create a picnic spread while you enjoy the tunes. Wine tastings to complete the perfect winter afternoon. \nWe recommend booking in for seated tastings but if you’re just here for the music and good times\, feel free to wander in and find yourself a spot on the lawn to soak in the vibes. Book your wine tasting table HERE
URL:https://mercerwines.com.au/event/sundaylivemusic1st/
LOCATION:Mercer Wines\, 972 Hermitage Road\, POKOLBIN\, NSW\, 2320\, Australia
CATEGORIES:CellarDoor
ATTACH;FMTTYPE=image/jpeg:https://mercerwines.com.au/wp-content/uploads/2024/06/5.jpg
ORGANIZER;CN="Mercer Wines":MAILTO:alison@mercerwines.com.au
END:VEVENT
END:VCALENDAR