BEGIN:VCALENDAR
VERSION:2.0
PRODID:-//Mercer Wines - ECPv6.15.14//NONSGML v1.0//EN
CALSCALE:GREGORIAN
METHOD:PUBLISH
X-ORIGINAL-URL:https://mercerwines.com.au
X-WR-CALDESC:Events for Mercer Wines
REFRESH-INTERVAL;VALUE=DURATION:PT1H
X-Robots-Tag:noindex
X-PUBLISHED-TTL:PT1H
BEGIN:VTIMEZONE
TZID:Australia/Sydney
BEGIN:STANDARD
TZOFFSETFROM:+1100
TZOFFSETTO:+1000
TZNAME:AEST
DTSTART:20250405T160000
END:STANDARD
BEGIN:DAYLIGHT
TZOFFSETFROM:+1000
TZOFFSETTO:+1100
TZNAME:AEDT
DTSTART:20251004T160000
END:DAYLIGHT
BEGIN:STANDARD
TZOFFSETFROM:+1100
TZOFFSETTO:+1000
TZNAME:AEST
DTSTART:20260404T160000
END:STANDARD
BEGIN:DAYLIGHT
TZOFFSETFROM:+1000
TZOFFSETTO:+1100
TZNAME:AEDT
DTSTART:20261003T160000
END:DAYLIGHT
BEGIN:STANDARD
TZOFFSETFROM:+1100
TZOFFSETTO:+1000
TZNAME:AEST
DTSTART:20270403T160000
END:STANDARD
BEGIN:DAYLIGHT
TZOFFSETFROM:+1000
TZOFFSETTO:+1100
TZNAME:AEDT
DTSTART:20271002T160000
END:DAYLIGHT
END:VTIMEZONE
BEGIN:VEVENT
DTSTART;TZID=Australia/Sydney:20260606T110000
DTEND;TZID=Australia/Sydney:20260606T150000
DTSTAMP:20260420T082702
CREATED:20260208T023511Z
LAST-MODIFIED:20260208T060945Z
UID:12583-1780743600-1780758000@mercerwines.com.au
SUMMARY:Mercer Anniversary  - June Long Weekend. Saturday 6th
DESCRIPTION:2026 June Long Weekend\, it’s our Anniversary on Hermitage Road at our Hunter Valley Cellar Door. \nCelebrate two incredible years with a relaxed weekend of wine\, food\, and live music with the Mercer Team. Be among the first to taste exciting new Mercer releases\, enjoy local bites and soak up the Hunter Valley vibes with music from 12–3pm daily. \nTickets: $40 \nWalk-ins welcome\, but bookings are highly recommended. BOOK HERE
URL:https://mercerwines.com.au/event/mercer-anniversary-june-long-weekend/
LOCATION:Mercer Wines Cellar Door\, 972 Hermitage Road\, Pokolbin\, NSW\, 2320\, Australia
CATEGORIES:CellarDoor
ATTACH;FMTTYPE=image/jpeg:https://mercerwines.com.au/wp-content/uploads/2025/05/NEL-3.jpg
ORGANIZER;CN="Mercer Wines":MAILTO:alison@mercerwines.com.au
END:VEVENT
BEGIN:VEVENT
DTSTART;TZID=Australia/Sydney:20260607T110000
DTEND;TZID=Australia/Sydney:20260607T150000
DTSTAMP:20260420T082702
CREATED:20260208T023854Z
LAST-MODIFIED:20260208T040155Z
UID:12585-1780830000-1780844400@mercerwines.com.au
SUMMARY:Mercer Anniversary  - June Long Weekend - Sunday 7th
DESCRIPTION:2026 June Long Weekend\, it’s our Anniversary on Hermitage Road at our Hunter Valley Cellar Door. \nCelebrate two incredible years with a relaxed weekend of wine\, food\, and live music with the Mercer Team. Be among the first to taste exciting new Mercer releases\, enjoy local bites and soak up the Hunter Valley vibes with music from 12–3pm daily. \nTickets: $40 \nWalk-ins welcome\, but bookings are highly recommended. BOOK HERE
URL:https://mercerwines.com.au/event/mercer-anniversary-june-long-weekend-sunday/
LOCATION:Mercer Wines Cellar Door\, 972 Hermitage Road\, Pokolbin\, NSW\, 2320\, Australia
CATEGORIES:CellarDoor
ATTACH;FMTTYPE=image/jpeg:https://mercerwines.com.au/wp-content/uploads/2025/05/NEL.jpg
ORGANIZER;CN="Mercer Wines":MAILTO:alison@mercerwines.com.au
END:VEVENT
END:VCALENDAR