BEGIN:VCALENDAR
VERSION:2.0
PRODID:-//Mercer Wines - ECPv6.15.14//NONSGML v1.0//EN
CALSCALE:GREGORIAN
METHOD:PUBLISH
X-ORIGINAL-URL:https://mercerwines.com.au
X-WR-CALDESC:Events for Mercer Wines
REFRESH-INTERVAL;VALUE=DURATION:PT1H
X-Robots-Tag:noindex
X-PUBLISHED-TTL:PT1H
BEGIN:VTIMEZONE
TZID:Australia/Sydney
BEGIN:STANDARD
TZOFFSETFROM:+1100
TZOFFSETTO:+1000
TZNAME:AEST
DTSTART:20240406T160000
END:STANDARD
BEGIN:DAYLIGHT
TZOFFSETFROM:+1000
TZOFFSETTO:+1100
TZNAME:AEDT
DTSTART:20241005T160000
END:DAYLIGHT
BEGIN:STANDARD
TZOFFSETFROM:+1100
TZOFFSETTO:+1000
TZNAME:AEST
DTSTART:20250405T160000
END:STANDARD
BEGIN:DAYLIGHT
TZOFFSETFROM:+1000
TZOFFSETTO:+1100
TZNAME:AEDT
DTSTART:20251004T160000
END:DAYLIGHT
BEGIN:STANDARD
TZOFFSETFROM:+1100
TZOFFSETTO:+1000
TZNAME:AEST
DTSTART:20260404T160000
END:STANDARD
BEGIN:DAYLIGHT
TZOFFSETFROM:+1000
TZOFFSETTO:+1100
TZNAME:AEDT
DTSTART:20261003T160000
END:DAYLIGHT
END:VTIMEZONE
BEGIN:VEVENT
DTSTART;TZID=Australia/Sydney:20250403T173000
DTEND;TZID=Australia/Sydney:20250403T223000
DTSTAMP:20260422T012530
CREATED:20250226T003459Z
LAST-MODIFIED:20250226T003459Z
UID:11168-1743701400-1743719400@mercerwines.com.au
SUMMARY:Newcastle Food Month  with Una Volta
DESCRIPTION:Vinoteca Bocca di Bacco x Mercer Wines \nStep into Vinoteca ‘Bocca di Bacco\,’ where the essence of Italian cuisine meets exceptional local wines from Mercer Wines. Hosted by Aaron and Alison from Mercer Wines\, this special event promises an unforgettable evening of buonissimo Italian cucina\, perfectly paired with exquisite regional wines\, all set against the backdrop of live music from talented local artists. \nWhether you’re savouring rich\, authentic flavours or sipping on a glass of perfectly selected wine\, each moment at Bocca di Bacco promises to be a celebration of taste\, tradition\, and community. A night here isn’t just a meal—it’s an experience.
URL:https://mercerwines.com.au/event/unavolta/
LOCATION:Una Volta\, 23 Watt Street\, Newcastle\, NSW\, 2300\, Australia
CATEGORIES:Wine Dinners
ATTACH;FMTTYPE=image/png:https://mercerwines.com.au/wp-content/uploads/2024/03/NSW-wine-2.png
END:VEVENT
END:VCALENDAR