BEGIN:VCALENDAR
VERSION:2.0
PRODID:-//Mercer Wines - ECPv6.15.14//NONSGML v1.0//EN
CALSCALE:GREGORIAN
METHOD:PUBLISH
X-ORIGINAL-URL:https://mercerwines.com.au
X-WR-CALDESC:Events for Mercer Wines
REFRESH-INTERVAL;VALUE=DURATION:PT1H
X-Robots-Tag:noindex
X-PUBLISHED-TTL:PT1H
BEGIN:VTIMEZONE
TZID:Australia/Sydney
BEGIN:STANDARD
TZOFFSETFROM:+1100
TZOFFSETTO:+1000
TZNAME:AEST
DTSTART:20230401T160000
END:STANDARD
BEGIN:DAYLIGHT
TZOFFSETFROM:+1000
TZOFFSETTO:+1100
TZNAME:AEDT
DTSTART:20230930T160000
END:DAYLIGHT
BEGIN:STANDARD
TZOFFSETFROM:+1100
TZOFFSETTO:+1000
TZNAME:AEST
DTSTART:20240406T160000
END:STANDARD
BEGIN:DAYLIGHT
TZOFFSETFROM:+1000
TZOFFSETTO:+1100
TZNAME:AEDT
DTSTART:20241005T160000
END:DAYLIGHT
BEGIN:STANDARD
TZOFFSETFROM:+1100
TZOFFSETTO:+1000
TZNAME:AEST
DTSTART:20250405T160000
END:STANDARD
BEGIN:DAYLIGHT
TZOFFSETFROM:+1000
TZOFFSETTO:+1100
TZNAME:AEDT
DTSTART:20251004T160000
END:DAYLIGHT
END:VTIMEZONE
BEGIN:VEVENT
DTSTART;TZID=Australia/Sydney:20240411T180000
DTEND;TZID=Australia/Sydney:20240411T193000
DTSTAMP:20260422T213753
CREATED:20240321T035706Z
LAST-MODIFIED:20240321T035807Z
UID:6797-1712858400-1712863800@mercerwines.com.au
SUMMARY:Gladesville Masterclass - Dan Murphys
DESCRIPTION:Join your friendly Wine Merchant Congling in welcoming our new Local Winemaker in the house\, Aaron Mercer\, a proud Hunter boy\, to taste his Sustainable Wines and re-discover Variety & Place. This tasting features: Mercer Wines Pinot Grigio\, Semillon\, Chardonnay. Mercer Wines Shiraz\, Tempranillo\, Montepulciano \nAaron is one of NSW’s most awarded and versatile winemakers. With extensive experience working in France\, Germany\, Canada and California\, he is best known for his positive impact on organic and preservative free winemaking in Australia. \nWine lovers\, take note: this event is truly unmissable. Seats are strictly limited. Hop to it!  \nTo secure your seats please complete the registration here.  \nRSVP: Thursday\, 11th April 2023 \nThis event is strictly for over 18 year olds and you may be asked for proof of age. We are happy to help you find your new favourite drink and we ensure we design our events responsibly\, we ask that you also drink responsibly. Keep track of how many drinks you have tried and use the spittoon provided\, especially if you are driving.
URL:https://mercerwines.com.au/event/gladesville-masterclass-dan-murphys/
LOCATION:Gladesville Dan Murphys\, 330 Victoria Road\, Gladesville\, NSW\, Australia
ATTACH;FMTTYPE=image/png:https://mercerwines.com.au/wp-content/uploads/2024/03/Screen-Shot-2024-03-21-at-2.54.18-pm.png
ORGANIZER;CN="Mercer Wines":MAILTO:alison@mercerwines.com.au
END:VEVENT
END:VCALENDAR